BEGIN:VCALENDAR
VERSION:2.0
PRODID:-//New England Santa Society - ECPv6.15.20//NONSGML v1.0//EN
CALSCALE:GREGORIAN
METHOD:PUBLISH
X-WR-CALNAME:New England Santa Society
X-ORIGINAL-URL:https://newenglandsantasociety.org
X-WR-CALDESC:Events for New England Santa Society
REFRESH-INTERVAL;VALUE=DURATION:PT1H
X-Robots-Tag:noindex
X-PUBLISHED-TTL:PT1H
BEGIN:VTIMEZONE
TZID:America/New_York
BEGIN:DAYLIGHT
TZOFFSETFROM:-0500
TZOFFSETTO:-0400
TZNAME:EDT
DTSTART:20250309T070000
END:DAYLIGHT
BEGIN:STANDARD
TZOFFSETFROM:-0400
TZOFFSETTO:-0500
TZNAME:EST
DTSTART:20251102T060000
END:STANDARD
BEGIN:DAYLIGHT
TZOFFSETFROM:-0500
TZOFFSETTO:-0400
TZNAME:EDT
DTSTART:20260308T070000
END:DAYLIGHT
BEGIN:STANDARD
TZOFFSETFROM:-0400
TZOFFSETTO:-0500
TZNAME:EST
DTSTART:20261101T060000
END:STANDARD
BEGIN:DAYLIGHT
TZOFFSETFROM:-0500
TZOFFSETTO:-0400
TZNAME:EDT
DTSTART:20270314T070000
END:DAYLIGHT
BEGIN:STANDARD
TZOFFSETFROM:-0400
TZOFFSETTO:-0500
TZNAME:EST
DTSTART:20271107T060000
END:STANDARD
END:VTIMEZONE
BEGIN:VEVENT
DTSTART;TZID=America/New_York:20260422T180000
DTEND;TZID=America/New_York:20260422T200000
DTSTAMP:20260422T053112
CREATED:20260302T154723Z
LAST-MODIFIED:20260302T154723Z
UID:11294-1776880800-1776888000@newenglandsantasociety.org
SUMMARY:New Hampshire/Maine Santa Supper - Manchester\, NH
DESCRIPTION:  Join us for fun and fellowship at the Common Man Roadside Millyard in Manchester\, NH!  \n\n\n\nThis is a fun and informal get together to socialize with and meet fellow Santas\, Mrs. Claus\, holiday performers and helpers. It is open to all for FREE. We order off the menu so you can find something to match your taste and budget. Free parking is available in the lower lot of the TruHilton parking lot and at Stark Brewing. Also parking is available out in the front of the restaurant. The Common Man will reimburse any parking fees. \n\n\n\nAll Suppers start with a Social Hour at 6:00pm\, Dinner at 6:30pm. \n\n\n\nTo ensure great\, timely service\, our participating restaurants are requesting an attendee count prior to the event date. \n\n\n\nRSVP IS NEEDED by the Monday before the Supper \n\n\n\nSigning up for the dinners is FREE. At the Supper\, we ask for a donation of $2.00 per person.
URL:https://newenglandsantasociety.org/event/new-hampshire-maine-santa-supper-manchester-nh-23/
LOCATION:The Common Man Roadside Millyard\, 451 Commercial Street\, Manchester\, 03101
CATEGORIES:Santa Suppers & Claus Meals
ATTACH;FMTTYPE=image/jpeg:https://newenglandsantasociety.org/wp-content/uploads/2022/06/nh-supper-crew-scaled.jpg
ORGANIZER;CN="Tom Senior":MAILTO:santatom59@gmail.com
END:VEVENT
END:VCALENDAR